BEGIN:VCALENDAR
VERSION:2.0
PRODID:SessionNet
METHOD:PUBLISH
BEGIN:VTIMEZONE
TZID:Europe/Berlin
X-LIC-LOCATION:Europe/Berlin
BEGIN:DAYLIGHT
TZOFFSETFROM:+0100
TZOFFSETTO:+0200
TZNAME:CEST
DTSTART:19700329T020000
RRULE:FREQ=YEARLY;INTERVAL=1;BYDAY=-1SU;BYMONTH=3
END:DAYLIGHT
BEGIN:STANDARD
TZOFFSETFROM:+0200
TZOFFSETTO:+0100
TZNAME:CET
DTSTART:19701025T030000
RRULE:FREQ=YEARLY;INTERVAL=1;BYDAY=-1SU;BYMONTH=10
END:STANDARD
END:VTIMEZONE
BEGIN:VEVENT
DTSTART;TZID=Europe/Berlin:20261210T160000
DTEND;TZID=Europe/Berlin:20261210T160000
DTSTAMP;TZID=Europe/Berlin:20260423T020100
SUMMARY:Sitzung des Kreistags
LOCATION:
UID:https://eslra-sitzungsdienst.komm.one/bi/rssgo.asp?si409
END:VEVENT
BEGIN:VEVENT
DTSTART;TZID=Europe/Berlin:20261203T150000
DTEND;TZID=Europe/Berlin:20261203T150000
DTSTAMP;TZID=Europe/Berlin:20260423T020100
SUMMARY:Sitzung des Verwaltungs- und Finanzausschusses
LOCATION:Esslingen, kleinen Sitzungssaal des Landratsamts Esslingen, Pulverwiesen 11, 73728 Esslingen a. N.
UID:https://eslra-sitzungsdienst.komm.one/bi/rssgo.asp?si408
END:VEVENT
BEGIN:VEVENT
DTSTART;TZID=Europe/Berlin:20261126T170000
DTEND;TZID=Europe/Berlin:20261126T170000
DTSTAMP;TZID=Europe/Berlin:20260423T020100
SUMMARY:Sitzung des Ausschusses für Technik und Umwelt - gleichzeitig Betriebsausschuss
LOCATION:
UID:https://eslra-sitzungsdienst.komm.one/bi/rssgo.asp?si405
END:VEVENT
BEGIN:VEVENT
DTSTART;TZID=Europe/Berlin:20261126T140000
DTEND;TZID=Europe/Berlin:20261126T140000
DTSTAMP;TZID=Europe/Berlin:20260423T020100
SUMMARY:Sitzung des Kultur- und Schulausschusses
LOCATION:
UID:https://eslra-sitzungsdienst.komm.one/bi/rssgo.asp?si404
END:VEVENT
BEGIN:VEVENT
DTSTART;TZID=Europe/Berlin:20261119T170000
DTEND;TZID=Europe/Berlin:20261119T170000
DTSTAMP;TZID=Europe/Berlin:20260423T020100
SUMMARY:Sitzung des Sozialausschusses
LOCATION:Esslingen, kleinen Sitzungssaal
UID:https://eslra-sitzungsdienst.komm.one/bi/rssgo.asp?si403
END:VEVENT
BEGIN:VEVENT
DTSTART;TZID=Europe/Berlin:20261119T140000
DTEND;TZID=Europe/Berlin:20261119T140000
DTSTAMP;TZID=Europe/Berlin:20260423T020100
SUMMARY:Sitzung des Jugendhilfeausschusses
LOCATION:Esslingen, kleinen Sitzungssaal des Landratsamts Esslingen, Pulverwiesen 11, 73728 Esslingen a. N.
UID:https://eslra-sitzungsdienst.komm.one/bi/rssgo.asp?si402
END:VEVENT
BEGIN:VEVENT
DTSTART;TZID=Europe/Berlin:20261105T160000
DTEND;TZID=Europe/Berlin:20261105T160000
DTSTAMP;TZID=Europe/Berlin:20260423T020100
SUMMARY:Sitzung des Kreistags
LOCATION:
UID:https://eslra-sitzungsdienst.komm.one/bi/rssgo.asp?si399
END:VEVENT
BEGIN:VEVENT
DTSTART;TZID=Europe/Berlin:20261008T150000
DTEND;TZID=Europe/Berlin:20261008T150000
DTSTAMP;TZID=Europe/Berlin:20260423T020100
SUMMARY:Sitzung des Ausschusses für Technik und Umwelt - gleichzeitig Betriebsausschuss
LOCATION:
UID:https://eslra-sitzungsdienst.komm.one/bi/rssgo.asp?si396
END:VEVENT
BEGIN:VEVENT
DTSTART;TZID=Europe/Berlin:20261001T160000
DTEND;TZID=Europe/Berlin:20261001T160000
DTSTAMP;TZID=Europe/Berlin:20260423T020100
SUMMARY:Sitzung des Kreistags
LOCATION:
UID:https://eslra-sitzungsdienst.komm.one/bi/rssgo.asp?si393
END:VEVENT
BEGIN:VEVENT
DTSTART;TZID=Europe/Berlin:20260723T160000
DTEND;TZID=Europe/Berlin:20260723T160000
DTSTAMP;TZID=Europe/Berlin:20260423T020100
SUMMARY:Sitzung des Kreistags
LOCATION:
UID:https://eslra-sitzungsdienst.komm.one/bi/rssgo.asp?si390
END:VEVENT
BEGIN:VEVENT
DTSTART;TZID=Europe/Berlin:20260716T150000
DTEND;TZID=Europe/Berlin:20260716T150000
DTSTAMP;TZID=Europe/Berlin:20260423T020100
SUMMARY:Sitzung des Verwaltungs- und Finanzausschusses
LOCATION:Esslingen, kleinen Sitzungssaal des Landratsamts Esslingen, Pulverwiesen 11, 73728 Esslingen a. N.
UID:https://eslra-sitzungsdienst.komm.one/bi/rssgo.asp?si389
END:VEVENT
BEGIN:VEVENT
DTSTART;TZID=Europe/Berlin:20260709T150000
DTEND;TZID=Europe/Berlin:20260709T150000
DTSTAMP;TZID=Europe/Berlin:20260423T020100
SUMMARY:Sitzung des Ausschusses für Technik und Umwelt - gleichzeitig Betriebsausschuss
LOCATION:Esslingen, im kleinen Sitzungssaal des Landratsamts Esslingen, Pulverwiesen 11, 73728 Esslingen a. N.
UID:https://eslra-sitzungsdienst.komm.one/bi/rssgo.asp?si386
END:VEVENT
BEGIN:VEVENT
DTSTART;TZID=Europe/Berlin:20260702T140000
DTEND;TZID=Europe/Berlin:20260702T140000
DTSTAMP;TZID=Europe/Berlin:20260423T020100
SUMMARY:Sitzung des Kultur- und Schulausschusses
LOCATION:Esslingen, im kleinen Sitzungssaal des Landratsamts Esslingen, Pulverwiesen 11, 73728 Esslingen a. N.
UID:https://eslra-sitzungsdienst.komm.one/bi/rssgo.asp?si383
END:VEVENT
BEGIN:VEVENT
DTSTART;TZID=Europe/Berlin:20260611T170000
DTEND;TZID=Europe/Berlin:20260611T170000
DTSTAMP;TZID=Europe/Berlin:20260423T020100
SUMMARY:Sitzung des Sozialausschusses
LOCATION:Esslingen, kleinen Sitzungssaal
UID:https://eslra-sitzungsdienst.komm.one/bi/rssgo.asp?si380
END:VEVENT
BEGIN:VEVENT
DTSTART;TZID=Europe/Berlin:20260611T140000
DTEND;TZID=Europe/Berlin:20260611T140000
DTSTAMP;TZID=Europe/Berlin:20260423T020100
SUMMARY:Sitzung des Jugendhilfeausschusses
LOCATION:Esslingen, kleinen Sitzungssaal des Landratsamts Esslingen, Pulverwiesen 11, 73728 Esslingen a. N.
UID:https://eslra-sitzungsdienst.komm.one/bi/rssgo.asp?si379
END:VEVENT
END:VCALENDAR